BEGIN:VCALENDAR
VERSION:2.0
PRODID:ConsultVox
NAME:Benoît Hamon 06-02-2024 [COMPLET]
X-WR-CALNAME:Benoît Hamon 06-02-2024 [COMPLET]
BEGIN:VTIMEZONE
TZID:UTC
BEGIN:STANDARD
DTSTART:20230512T173000Z
TZOFFSETFROM:+0000
TZOFFSETTO:+0000
END:STANDARD
END:VTIMEZONE
BEGIN:VEVENT
UID:M8DztvVP0XW
DTSTAMP:20260421T213744Z
SUMMARY:Benoît Hamon 06-02-2024 [COMPLET]
DESCRIPTION:Osons le débat avec Benoît Hamon\, discutons ensemble de la p
 lace du travail dans notre société ! \nMardi 06 février 18h30 - Maison 
 Folie Beaulieu
LOCATION:Maison Folie Beaulieu\, Place Beaulieu\, Lille\, France
DTSTART:20240206T173000Z
DTEND:20240206T193000Z
GEO:50.6408422;2.9917859
END:VEVENT
END:VCALENDAR