BEGIN:VCALENDAR
VERSION:2.0
PRODID:ConsultVox
NAME:Pour une transition écologique juste: Comment conscilier fin du monde
  et fin du mois?
X-WR-CALNAME:Pour une transition écologique juste: Comment conscilier fin 
 du monde et fin du mois?
BEGIN:VTIMEZONE
TZID:UTC
BEGIN:STANDARD
DTSTART:20240825T163000Z
TZOFFSETFROM:+0000
TZOFFSETTO:+0000
END:STANDARD
END:VTIMEZONE
BEGIN:VEVENT
UID:68j3UZ6MVYy
DTSTAMP:20260421T213759Z
SUMMARY:Pour une transition écologique juste: Comment conscilier fin du mo
 nde et fin du mois?
DESCRIPTION:Les 10 % les plus riches de la population mondiale sont respons
 ables de près de 50 % des émissions de CO₂ .... !
LOCATION:L’Odyssée Médiathèque de Lomme\, Avenue de Dunkerque\, Lille\
 , France
DTSTART:20250522T163000Z
DTEND:20250522T180000Z
GEO:50.6467493;2.9945875
END:VEVENT
END:VCALENDAR